BEGIN:VCALENDAR
VERSION:2.0
PRODID:-//Colegio - ECPv5.16.0//NONSGML v1.0//EN
CALSCALE:GREGORIAN
METHOD:PUBLISH
X-ORIGINAL-URL:https://colegiosantotomaschia.edu.co
X-WR-CALDESC:Events for Colegio
REFRESH-INTERVAL;VALUE=DURATION:PT1H
X-Robots-Tag:noindex
X-PUBLISHED-TTL:PT1H
BEGIN:VTIMEZONE
TZID:America/Bogota
BEGIN:STANDARD
TZOFFSETFROM:-0500
TZOFFSETTO:-0500
TZNAME:-05
DTSTART:20230101T000000
END:STANDARD
END:VTIMEZONE
BEGIN:VEVENT
DTSTART;TZID=America/Bogota:20230116T080000
DTEND;TZID=America/Bogota:20230116T170000
DTSTAMP:20260423T180835
CREATED:20220711T010536Z
LAST-MODIFIED:20230313T122845Z
UID:5015-1673856000-1673888400@colegiosantotomaschia.edu.co
SUMMARY:Ingreso Directivas y Docentes
DESCRIPTION:
URL:https://colegiosantotomaschia.edu.co/event/ingreso-directivas-y-docentes/
CATEGORIES:enero
END:VEVENT
BEGIN:VEVENT
DTSTART;TZID=America/Bogota:20230120T080000
DTEND;TZID=America/Bogota:20230120T170000
DTSTAMP:20260423T180835
CREATED:20230313T122912Z
LAST-MODIFIED:20230313T122912Z
UID:5254-1674201600-1674234000@colegiosantotomaschia.edu.co
SUMMARY:Pruebas de superación estudiantes con dificultades académicas
DESCRIPTION:
URL:https://colegiosantotomaschia.edu.co/event/pruebas-de-superacion-estudiantes-con-dificultades-academicas/
CATEGORIES:enero
END:VEVENT
BEGIN:VEVENT
DTSTART;TZID=America/Bogota:20230123T080000
DTEND;TZID=America/Bogota:20230123T170000
DTSTAMP:20260423T180835
CREATED:20230313T122939Z
LAST-MODIFIED:20230313T122939Z
UID:5258-1674460800-1674493200@colegiosantotomaschia.edu.co
SUMMARY:INICIO PRIMER PERIODO
DESCRIPTION:
URL:https://colegiosantotomaschia.edu.co/event/inicio-primer-periodo/
CATEGORIES:enero
END:VEVENT
BEGIN:VEVENT
DTSTART;TZID=America/Bogota:20230124T080000
DTEND;TZID=America/Bogota:20230124T170000
DTSTAMP:20260423T180835
CREATED:20230313T123006Z
LAST-MODIFIED:20230313T123006Z
UID:5260-1674547200-1674579600@colegiosantotomaschia.edu.co
SUMMARY:Inducción estudiantes de 5° a 11°
DESCRIPTION:
URL:https://colegiosantotomaschia.edu.co/event/induccion-estudiantes-de-5-a-11/
CATEGORIES:enero
END:VEVENT
BEGIN:VEVENT
DTSTART;TZID=America/Bogota:20230125T080000
DTEND;TZID=America/Bogota:20230125T170000
DTSTAMP:20260423T180835
CREATED:20230313T123025Z
LAST-MODIFIED:20230313T123025Z
UID:5262-1674633600-1674666000@colegiosantotomaschia.edu.co
SUMMARY:Inducción estudiantes de 2° a 4°
DESCRIPTION:
URL:https://colegiosantotomaschia.edu.co/event/induccion-estudiantes-de-2-a-4/
CATEGORIES:enero
END:VEVENT
BEGIN:VEVENT
DTSTART;TZID=America/Bogota:20230126T080000
DTEND;TZID=America/Bogota:20230126T170000
DTSTAMP:20260423T180835
CREATED:20230313T123048Z
LAST-MODIFIED:20230313T123048Z
UID:5264-1674720000-1674752400@colegiosantotomaschia.edu.co
SUMMARY:Inducción estudiantes de Preescolar y 1°
DESCRIPTION:
URL:https://colegiosantotomaschia.edu.co/event/induccion-estudiantes-de-preescolar-y-1/
CATEGORIES:enero
END:VEVENT
BEGIN:VEVENT
DTSTART;TZID=America/Bogota:20230127T080000
DTEND;TZID=America/Bogota:20230127T170000
DTSTAMP:20260423T180835
CREATED:20230313T123111Z
LAST-MODIFIED:20230313T123111Z
UID:5266-1674806400-1674838800@colegiosantotomaschia.edu.co
SUMMARY:Inducción estudiantes de Preescolar y 1°
DESCRIPTION:
URL:https://colegiosantotomaschia.edu.co/event/induccion-estudiantes-de-preescolar-y-1-2/
CATEGORIES:enero
END:VEVENT
BEGIN:VEVENT
DTSTART;TZID=America/Bogota:20230130T080000
DTEND;TZID=America/Bogota:20230130T170000
DTSTAMP:20260423T180835
CREATED:20230313T123132Z
LAST-MODIFIED:20230313T123132Z
UID:5268-1675065600-1675098000@colegiosantotomaschia.edu.co
SUMMARY:Inicio de semana de Diagnóstico y Fortalecimiento
DESCRIPTION:
URL:https://colegiosantotomaschia.edu.co/event/inicio-de-semana-de-diagnostico-y-fortalecimiento/
CATEGORIES:enero
END:VEVENT
END:VCALENDAR