BEGIN:VCALENDAR
VERSION:2.0
PRODID:-//Colegio - ECPv5.16.0//NONSGML v1.0//EN
CALSCALE:GREGORIAN
METHOD:PUBLISH
X-WR-CALNAME:Colegio
X-ORIGINAL-URL:http://colegiosantotomaschia.edu.co
X-WR-CALDESC:Events for Colegio
REFRESH-INTERVAL;VALUE=DURATION:PT1H
X-Robots-Tag:noindex
X-PUBLISHED-TTL:PT1H
BEGIN:VTIMEZONE
TZID:America/Bogota
BEGIN:STANDARD
TZOFFSETFROM:-0500
TZOFFSETTO:-0500
TZNAME:-05
DTSTART:20230101T000000
END:STANDARD
END:VTIMEZONE
BEGIN:VEVENT
DTSTART;TZID=America/Bogota:20231216T080000
DTEND;TZID=America/Bogota:20231216T170000
DTSTAMP:20260425T161406
CREATED:20230314T064207Z
LAST-MODIFIED:20230314T064207Z
UID:5394-1702713600-1702746000@colegiosantotomaschia.edu.co
SUMMARY:Matrículas
DESCRIPTION:
URL:http://colegiosantotomaschia.edu.co/event/matriculas/
CATEGORIES:diciembre
END:VEVENT
BEGIN:VEVENT
DTSTART;TZID=America/Bogota:20231202T080000
DTEND;TZID=America/Bogota:20231202T170000
DTSTAMP:20260425T161406
CREATED:20230314T064144Z
LAST-MODIFIED:20230314T064144Z
UID:5392-1701504000-1701536400@colegiosantotomaschia.edu.co
SUMMARY:Grados estudiantes de Once
DESCRIPTION:
URL:http://colegiosantotomaschia.edu.co/event/grados-estudiantes-de-once/
CATEGORIES:diciembre
END:VEVENT
BEGIN:VEVENT
DTSTART;TZID=America/Bogota:20231130T080000
DTEND;TZID=America/Bogota:20231130T170000
DTSTAMP:20260425T161406
CREATED:20230314T064116Z
LAST-MODIFIED:20230314T064116Z
UID:5390-1701331200-1701363600@colegiosantotomaschia.edu.co
SUMMARY:FINALIZACIÓN CUARTO PERIODO ACADÉMICO
DESCRIPTION:
URL:http://colegiosantotomaschia.edu.co/event/finalizacion-cuarto-periodo-academico/
CATEGORIES:noviembre
END:VEVENT
BEGIN:VEVENT
DTSTART;TZID=America/Bogota:20231125T080000
DTEND;TZID=America/Bogota:20231125T170000
DTSTAMP:20260425T161407
CREATED:20230314T064057Z
LAST-MODIFIED:20230314T064057Z
UID:5388-1700899200-1700931600@colegiosantotomaschia.edu.co
SUMMARY:Clausura general grados transición y certificación Noveno
DESCRIPTION:
URL:http://colegiosantotomaschia.edu.co/event/clausura-general-grados-transicion-y-certificacion-noveno/
CATEGORIES:noviembre
END:VEVENT
BEGIN:VEVENT
DTSTART;TZID=America/Bogota:20231122T080000
DTEND;TZID=America/Bogota:20231122T170000
DTSTAMP:20260425T161407
CREATED:20230314T064039Z
LAST-MODIFIED:20230314T064039Z
UID:5386-1700640000-1700672400@colegiosantotomaschia.edu.co
SUMMARY:Último consejo académico
DESCRIPTION:
URL:http://colegiosantotomaschia.edu.co/event/ultimo-consejo-academico/
CATEGORIES:noviembre
END:VEVENT
BEGIN:VEVENT
DTSTART;TZID=America/Bogota:20231114T080000
DTEND;TZID=America/Bogota:20231114T170000
DTSTAMP:20260425T161407
CREATED:20230314T064018Z
LAST-MODIFIED:20230314T064018Z
UID:5384-1699948800-1699981200@colegiosantotomaschia.edu.co
SUMMARY:Día de talentos y entrega de resultados a estudiantes
DESCRIPTION:
URL:http://colegiosantotomaschia.edu.co/event/dia-de-talentos-y-entrega-de-resultados-a-estudiantes/
CATEGORIES:noviembre
END:VEVENT
BEGIN:VEVENT
DTSTART;TZID=America/Bogota:20231110T080000
DTEND;TZID=America/Bogota:20231110T170000
DTSTAMP:20260425T161407
CREATED:20230314T064000Z
LAST-MODIFIED:20230314T064000Z
UID:5382-1699603200-1699635600@colegiosantotomaschia.edu.co
SUMMARY:Eucaristía a cargo de 10° Entrega de símbolos Consejo académico
DESCRIPTION:
URL:http://colegiosantotomaschia.edu.co/event/eucaristia-a-cargo-de-10-entrega-de-simbolos-consejo-academico/
CATEGORIES:noviembre
END:VEVENT
BEGIN:VEVENT
DTSTART;TZID=America/Bogota:20231103T080000
DTEND;TZID=America/Bogota:20231103T170000
DTSTAMP:20260425T161407
CREATED:20230314T063930Z
LAST-MODIFIED:20230314T063930Z
UID:5380-1698998400-1699030800@colegiosantotomaschia.edu.co
SUMMARY:Día del estudiante tomasino
DESCRIPTION:
URL:http://colegiosantotomaschia.edu.co/event/dia-del-estudiante-tomasino/
CATEGORIES:noviembre
END:VEVENT
BEGIN:VEVENT
DTSTART;TZID=America/Bogota:20231031T080000
DTEND;TZID=America/Bogota:20231031T170000
DTSTAMP:20260425T161407
CREATED:20230314T063901Z
LAST-MODIFIED:20230314T063901Z
UID:5378-1698739200-1698771600@colegiosantotomaschia.edu.co
SUMMARY:Día de los niños
DESCRIPTION:
URL:http://colegiosantotomaschia.edu.co/event/dia-de-los-ninos/
CATEGORIES:octubre
END:VEVENT
BEGIN:VEVENT
DTSTART;TZID=America/Bogota:20231027T080000
DTEND;TZID=America/Bogota:20231027T170000
DTSTAMP:20260425T161407
CREATED:20230314T063842Z
LAST-MODIFIED:20230314T063842Z
UID:5376-1698393600-1698426000@colegiosantotomaschia.edu.co
SUMMARY:Jean Day
DESCRIPTION:
URL:http://colegiosantotomaschia.edu.co/event/jean-day-3/
CATEGORIES:octubre
END:VEVENT
BEGIN:VEVENT
DTSTART;TZID=America/Bogota:20231021T080000
DTEND;TZID=America/Bogota:20231021T170000
DTSTAMP:20260425T161407
CREATED:20230314T063808Z
LAST-MODIFIED:20230314T063808Z
UID:5374-1697875200-1697907600@colegiosantotomaschia.edu.co
SUMMARY:Primeras comuniones y confirmaciones
DESCRIPTION:
URL:http://colegiosantotomaschia.edu.co/event/primeras-comuniones-y-confirmaciones/
CATEGORIES:octubre
END:VEVENT
BEGIN:VEVENT
DTSTART;TZID=America/Bogota:20231017T080000
DTEND;TZID=America/Bogota:20231017T170000
DTSTAMP:20260425T161407
CREATED:20230314T063749Z
LAST-MODIFIED:20230314T063749Z
UID:5372-1697529600-1697562000@colegiosantotomaschia.edu.co
SUMMARY:Regreso del receso escolar
DESCRIPTION:
URL:http://colegiosantotomaschia.edu.co/event/regreso-del-receso-escolar/
CATEGORIES:octubre
END:VEVENT
BEGIN:VEVENT
DTSTART;TZID=America/Bogota:20231006T080000
DTEND;TZID=America/Bogota:20231006T170000
DTSTAMP:20260425T161407
CREATED:20230314T063727Z
LAST-MODIFIED:20230314T063727Z
UID:5370-1696579200-1696611600@colegiosantotomaschia.edu.co
SUMMARY:Eucaristía a cargo de 9°y 11°
DESCRIPTION:
URL:http://colegiosantotomaschia.edu.co/event/eucaristia-a-cargo-de-9y-11/
CATEGORIES:octubre
END:VEVENT
BEGIN:VEVENT
DTSTART;TZID=America/Bogota:20230929T080000
DTEND;TZID=America/Bogota:20230929T170000
DTSTAMP:20260425T161407
CREATED:20230314T063657Z
LAST-MODIFIED:20230314T063657Z
UID:5368-1695974400-1696006800@colegiosantotomaschia.edu.co
SUMMARY:Jean day
DESCRIPTION:
URL:http://colegiosantotomaschia.edu.co/event/jean-day-2/
CATEGORIES:septiembre
END:VEVENT
BEGIN:VEVENT
DTSTART;TZID=America/Bogota:20230923T080000
DTEND;TZID=America/Bogota:20230923T170000
DTSTAMP:20260425T161407
CREATED:20230314T063617Z
LAST-MODIFIED:20230314T063617Z
UID:5366-1695456000-1695488400@colegiosantotomaschia.edu.co
SUMMARY:Entrega de informes tercer periodo Reunión transición\, décimo y once
DESCRIPTION:
URL:http://colegiosantotomaschia.edu.co/event/entrega-de-informes-tercer-periodo-reunion-transicion-decimo-y-once/
CATEGORIES:septiembre
END:VEVENT
BEGIN:VEVENT
DTSTART;TZID=America/Bogota:20230918T080000
DTEND;TZID=America/Bogota:20230918T170000
DTSTAMP:20260425T161407
CREATED:20230314T063556Z
LAST-MODIFIED:20230314T063556Z
UID:5364-1695024000-1695056400@colegiosantotomaschia.edu.co
SUMMARY:INICIO CUARTO PERIODO ACADÉMICO
DESCRIPTION:
URL:http://colegiosantotomaschia.edu.co/event/inicio-cuarto-periodo-academico/
CATEGORIES:septiembre
END:VEVENT
BEGIN:VEVENT
DTSTART;TZID=America/Bogota:20230915T080000
DTEND;TZID=America/Bogota:20230915T170000
DTSTAMP:20260425T161407
CREATED:20230314T063534Z
LAST-MODIFIED:20230314T063534Z
UID:5362-1694764800-1694797200@colegiosantotomaschia.edu.co
SUMMARY:FINALIZACIÓN TERCER PERIODO Proyecto de prevención vial
DESCRIPTION:
URL:http://colegiosantotomaschia.edu.co/event/finalizacion-tercer-periodo-proyecto-de-prevencion-vial/
CATEGORIES:septiembre
END:VEVENT
BEGIN:VEVENT
DTSTART;TZID=America/Bogota:20230901T080000
DTEND;TZID=America/Bogota:20230901T170000
DTSTAMP:20260425T161407
CREATED:20230314T063513Z
LAST-MODIFIED:20230314T063513Z
UID:5360-1693555200-1693587600@colegiosantotomaschia.edu.co
SUMMARY:Eucaristía a cargo de 7°y 8°
DESCRIPTION:
URL:http://colegiosantotomaschia.edu.co/event/eucaristia-a-cargo-de-7y-8/
CATEGORIES:septiembre
END:VEVENT
BEGIN:VEVENT
DTSTART;TZID=America/Bogota:20230825T080000
DTEND;TZID=America/Bogota:20230825T170000
DTSTAMP:20260425T161407
CREATED:20230314T063446Z
LAST-MODIFIED:20230314T063446Z
UID:5358-1692950400-1692982800@colegiosantotomaschia.edu.co
SUMMARY:Jean Day 10°
DESCRIPTION:
URL:http://colegiosantotomaschia.edu.co/event/jean-day-10-2/
CATEGORIES:agosto
END:VEVENT
BEGIN:VEVENT
DTSTART;TZID=America/Bogota:20230818T080000
DTEND;TZID=America/Bogota:20230818T170000
DTSTAMP:20260425T161407
CREATED:20230314T063424Z
LAST-MODIFIED:20230314T063424Z
UID:5356-1692345600-1692378000@colegiosantotomaschia.edu.co
SUMMARY:Taller de identidad cultural
DESCRIPTION:
URL:http://colegiosantotomaschia.edu.co/event/taller-de-identidad-cultural/
CATEGORIES:agosto
END:VEVENT
BEGIN:VEVENT
DTSTART;TZID=America/Bogota:20230813T080000
DTEND;TZID=America/Bogota:20230813T170000
DTSTAMP:20260425T161407
CREATED:20230314T063402Z
LAST-MODIFIED:20230314T063402Z
UID:5354-1691913600-1691946000@colegiosantotomaschia.edu.co
SUMMARY:Día de la Familia Tomasina
DESCRIPTION:
URL:http://colegiosantotomaschia.edu.co/event/dia-de-la-familia-tomasina/
CATEGORIES:agosto
END:VEVENT
BEGIN:VEVENT
DTSTART;TZID=America/Bogota:20230808T080000
DTEND;TZID=America/Bogota:20230808T170000
DTSTAMP:20260425T161407
CREATED:20230314T063340Z
LAST-MODIFIED:20230314T063340Z
UID:5352-1691481600-1691514000@colegiosantotomaschia.edu.co
SUMMARY:Apertura admisiones
DESCRIPTION:
URL:http://colegiosantotomaschia.edu.co/event/apertura-admisiones/
CATEGORIES:agosto
END:VEVENT
BEGIN:VEVENT
DTSTART;TZID=America/Bogota:20230804T080000
DTEND;TZID=America/Bogota:20230804T170000
DTSTAMP:20260425T161407
CREATED:20230314T063321Z
LAST-MODIFIED:20230314T063321Z
UID:5350-1691136000-1691168400@colegiosantotomaschia.edu.co
SUMMARY:Eucaristía a cargo de Quinto y Sexto
DESCRIPTION:
URL:http://colegiosantotomaschia.edu.co/event/eucaristia-a-cargo-de-quinto-y-sexto/
CATEGORIES:agosto
END:VEVENT
BEGIN:VEVENT
DTSTART;TZID=America/Bogota:20230728T080000
DTEND;TZID=America/Bogota:20230728T170000
DTSTAMP:20260425T161407
CREATED:20230314T063252Z
LAST-MODIFIED:20230314T063252Z
UID:5348-1690531200-1690563600@colegiosantotomaschia.edu.co
SUMMARY:Jean Day
DESCRIPTION:
URL:http://colegiosantotomaschia.edu.co/event/jean-day/
CATEGORIES:julio
END:VEVENT
BEGIN:VEVENT
DTSTART;TZID=America/Bogota:20230725T080000
DTEND;TZID=America/Bogota:20230725T170000
DTSTAMP:20260425T161407
CREATED:20230314T063225Z
LAST-MODIFIED:20230314T063225Z
UID:5346-1690272000-1690304400@colegiosantotomaschia.edu.co
SUMMARY:Pre saber Sesión 15
DESCRIPTION:
URL:http://colegiosantotomaschia.edu.co/event/pre-saber-sesion-15/
CATEGORIES:julio
END:VEVENT
BEGIN:VEVENT
DTSTART;TZID=America/Bogota:20230719T080000
DTEND;TZID=America/Bogota:20230719T170000
DTSTAMP:20260425T161407
CREATED:20230314T063207Z
LAST-MODIFIED:20230314T063207Z
UID:5344-1689753600-1689786000@colegiosantotomaschia.edu.co
SUMMARY:Pre saber 11 Sesión 14
DESCRIPTION:
URL:http://colegiosantotomaschia.edu.co/event/pre-saber-11-sesion-14/
CATEGORIES:julio
END:VEVENT
BEGIN:VEVENT
DTSTART;TZID=America/Bogota:20230713T080000
DTEND;TZID=America/Bogota:20230713T170000
DTSTAMP:20260425T161407
CREATED:20230314T063147Z
LAST-MODIFIED:20230314T063147Z
UID:5342-1689235200-1689267600@colegiosantotomaschia.edu.co
SUMMARY:Simulacro N°3 Pre saber 11
DESCRIPTION:
URL:http://colegiosantotomaschia.edu.co/event/simulacro-n3-pre-saber-11/
CATEGORIES:julio
END:VEVENT
BEGIN:VEVENT
DTSTART;TZID=America/Bogota:20230710T080000
DTEND;TZID=America/Bogota:20230710T170000
DTSTAMP:20260425T161407
CREATED:20230314T063127Z
LAST-MODIFIED:20230314T063127Z
UID:5340-1688976000-1689008400@colegiosantotomaschia.edu.co
SUMMARY:Ingreso de receso escolar INICIO TERCER PERIODO
DESCRIPTION:
URL:http://colegiosantotomaschia.edu.co/event/ingreso-de-receso-escolar-inicio-tercer-periodo/
CATEGORIES:julio
END:VEVENT
BEGIN:VEVENT
DTSTART;TZID=America/Bogota:20230620T080000
DTEND;TZID=America/Bogota:20230620T170000
DTSTAMP:20260425T161407
CREATED:20230314T063058Z
LAST-MODIFIED:20230314T063058Z
UID:5338-1687248000-1687280400@colegiosantotomaschia.edu.co
SUMMARY:Inicio de receso escolar
DESCRIPTION:
URL:http://colegiosantotomaschia.edu.co/event/inicio-de-receso-escolar/
CATEGORIES:junio
END:VEVENT
BEGIN:VEVENT
DTSTART;TZID=America/Bogota:20230617T080000
DTEND;TZID=America/Bogota:20230617T170000
DTSTAMP:20260425T161407
CREATED:20230314T063029Z
LAST-MODIFIED:20230314T063029Z
UID:5336-1686988800-1687021200@colegiosantotomaschia.edu.co
SUMMARY:Entrega de informes padres de familia segundo periodo
DESCRIPTION:
URL:http://colegiosantotomaschia.edu.co/event/entrega-de-informes-padres-de-familia-segundo-periodo/
CATEGORIES:junio
END:VEVENT
END:VCALENDAR